BEGIN:VCALENDAR
VERSION:2.0
PRODID:-//Sharon Pluralism - ECPv6.15.20//NONSGML v1.0//EN
CALSCALE:GREGORIAN
METHOD:PUBLISH
X-ORIGINAL-URL:https://sharonpluralism.org
X-WR-CALDESC:Events for Sharon Pluralism
REFRESH-INTERVAL;VALUE=DURATION:PT1H
X-Robots-Tag:noindex
X-PUBLISHED-TTL:PT1H
BEGIN:VTIMEZONE
TZID:America/New_York
BEGIN:DAYLIGHT
TZOFFSETFROM:-0500
TZOFFSETTO:-0400
TZNAME:EDT
DTSTART:20240310T070000
END:DAYLIGHT
BEGIN:STANDARD
TZOFFSETFROM:-0400
TZOFFSETTO:-0500
TZNAME:EST
DTSTART:20241103T060000
END:STANDARD
BEGIN:DAYLIGHT
TZOFFSETFROM:-0500
TZOFFSETTO:-0400
TZNAME:EDT
DTSTART:20250309T070000
END:DAYLIGHT
BEGIN:STANDARD
TZOFFSETFROM:-0400
TZOFFSETTO:-0500
TZNAME:EST
DTSTART:20251102T060000
END:STANDARD
BEGIN:DAYLIGHT
TZOFFSETFROM:-0500
TZOFFSETTO:-0400
TZNAME:EDT
DTSTART:20260308T070000
END:DAYLIGHT
BEGIN:STANDARD
TZOFFSETFROM:-0400
TZOFFSETTO:-0500
TZNAME:EST
DTSTART:20261101T060000
END:STANDARD
END:VTIMEZONE
BEGIN:VEVENT
DTSTART;TZID=America/New_York:20251220T193000
DTEND;TZID=America/New_York:20251220T203000
DTSTAMP:20260419T122411
CREATED:20251217T192519Z
LAST-MODIFIED:20251217T192519Z
UID:10001057-1766259000-1766262600@sharonpluralism.org
SUMMARY:WINTER SOLSTICE RITUAL WITH  UCS ADULT CHOIR
DESCRIPTION:As the longest night of the year arrives\, join the Unitarian Universalist Church in Sharon for a meaningful Winter Solstice Ritual led by our Adult Choir. \nThrough music\, stories\, and shared presence\, we gather to honor the turning of the\nseason and the return of the light. All are welcome. Event is free to the public
URL:https://sharonpluralism.org/event/winter-solstice-ritual-with-ucs-adult-choir/
LOCATION:Unitarian Church of Sharon\, 4 N. Main St\, Sharon\, 02067\, United States
CATEGORIES:Events
ATTACH;FMTTYPE=application/pdf:https://sharonpluralism.org/wp-content/uploads/2025/12/WINTER-SOLSTICE-UCS-CHOIR2025.pdf
END:VEVENT
END:VCALENDAR